Package: KBoost Version: 1.10.0 Command: F:\biocbuild\bbs-3.18-bioc\R\bin\R.exe CMD check --no-multiarch --install=check:KBoost.install-out.txt --library=F:\biocbuild\bbs-3.18-bioc\R\library --no-vignettes --timings KBoost_1.10.0.tar.gz StartedAt: 2024-04-16 02:02:23 -0400 (Tue, 16 Apr 2024) EndedAt: 2024-04-16 02:03:09 -0400 (Tue, 16 Apr 2024) EllapsedTime: 45.9 seconds RetCode: 0 Status: OK CheckDir: KBoost.Rcheck Warnings: 0