Package: KEGGgraph Version: 1.62.0 Command: rm -rf KEGGgraph.buildbin-libdir && mkdir KEGGgraph.buildbin-libdir && /Users/biocbuild/BBS/utils/build-universal.sh KEGGgraph_1.62.0.tar.gz /Library/Frameworks/R.framework/Resources/bin/R KEGGgraph.buildbin-libdir StartedAt: 2024-04-16 12:03:53 -0400 (Tue, 16 Apr 2024) EndedAt: 2024-04-16 12:04:14 -0400 (Tue, 16 Apr 2024) EllapsedTime: 20.9 seconds RetCode: 0 Status: OK PackageFile: KEGGgraph_1.62.0.tgz PackageFileSize: 1.621 MiB