Package: KEGGgraph Version: 1.62.0 Command: /Library/Frameworks/R.framework/Resources/bin/R CMD check --install=check:KEGGgraph.install-out.txt --library=/Library/Frameworks/R.framework/Resources/library --no-vignettes --timings KEGGgraph_1.62.0.tar.gz StartedAt: 2024-04-16 04:31:01 -0400 (Tue, 16 Apr 2024) EndedAt: 2024-04-16 04:33:51 -0400 (Tue, 16 Apr 2024) EllapsedTime: 170.0 seconds RetCode: 0 Status: WARNINGS CheckDir: KEGGgraph.Rcheck Warnings: 1