Package: KEGGgraph Version: 1.62.0 Command: /Library/Frameworks/R.framework/Resources/bin/R CMD INSTALL KEGGgraph StartedAt: 2024-04-15 15:11:02 -0400 (Mon, 15 Apr 2024) EndedAt: 2024-04-15 15:11:24 -0400 (Mon, 15 Apr 2024) EllapsedTime: 22.8 seconds RetCode: 0 Status: OK