Package: KEGGgraph Version: 1.62.0 Command: F:\biocbuild\bbs-3.18-bioc\R\bin\R.exe CMD INSTALL KEGGgraph StartedAt: 2024-04-15 15:55:24 -0400 (Mon, 15 Apr 2024) EndedAt: 2024-04-15 15:55:41 -0400 (Mon, 15 Apr 2024) EllapsedTime: 17.2 seconds RetCode: 0 Status: OK