Package: KEGGlincs Version: 1.28.0 Command: /home/biocbuild/R/R-4.3.1/bin/R CMD build --keep-empty-dirs --no-resave-data KEGGlincs StartedAt: 2023-11-02 02:35:45 -0000 (Thu, 02 Nov 2023) EndedAt: 2023-11-02 02:36:51 -0000 (Thu, 02 Nov 2023) EllapsedTime: 66.1 seconds RetCode: 0 Status: OK PackageFile: KEGGlincs_1.28.0.tar.gz PackageFileSize: 4.215 MiB