Package: KEGGlincs
Version: 1.28.0
Command: /home/biocbuild/bbs-3.18-bioc/R/bin/R CMD build --keep-empty-dirs --no-resave-data KEGGlincs
StartedAt: 2024-04-15 17:41:42 -0400 (Mon, 15 Apr 2024)
EndedAt: 2024-04-15 17:42:35 -0400 (Mon, 15 Apr 2024)
EllapsedTime: 53.1 seconds
RetCode: 0
Status: OK
PackageFile: KEGGlincs_1.28.0.tar.gz
PackageFileSize: 4.215 <A href="http://en.wikipedia.org/wiki/MiB" target="_blank">MiB</A>