Package: KEGGlincs
Version: 1.28.0
Command: /home/biocbuild/bbs-3.18-bioc/R/bin/R CMD check --install=check:KEGGlincs.install-out.txt --library=/home/biocbuild/bbs-3.18-bioc/R/site-library --timings KEGGlincs_1.28.0.tar.gz
StartedAt: 2024-04-16 00:14:31 -0400 (Tue, 16 Apr 2024)
EndedAt: 2024-04-16 00:18:47 -0400 (Tue, 16 Apr 2024)
EllapsedTime: 255.8 seconds
RetCode: 0
Status: OK
CheckDir: KEGGlincs.Rcheck
Warnings: 0