Package: KEGGlincs Version: 1.28.0 Command: chmod a+r KEGGlincs -R && F:\biocbuild\bbs-3.18-bioc\R\bin\R.exe CMD build --keep-empty-dirs --no-resave-data KEGGlincs StartedAt: 2024-04-15 19:14:36 -0400 (Mon, 15 Apr 2024) EndedAt: 2024-04-15 19:15:42 -0400 (Mon, 15 Apr 2024) EllapsedTime: 65.7 seconds RetCode: 0 Status: OK PackageFile: KEGGlincs_1.28.0.tar.gz PackageFileSize: 4.215 MiB