Package: KnowSeq Version: 1.16.0 Command: /home/biocbuild/R/R-4.3.1/bin/R CMD build --keep-empty-dirs --no-resave-data KnowSeq StartedAt: 2023-11-02 02:36:42 -0000 (Thu, 02 Nov 2023) EndedAt: 2023-11-02 02:40:24 -0000 (Thu, 02 Nov 2023) EllapsedTime: 221.3 seconds RetCode: 0 Status: OK PackageFile: KnowSeq_1.16.0.tar.gz PackageFileSize: 8.207 MiB