Package: KnowSeq Version: 1.16.0 Command: rm -rf KnowSeq.buildbin-libdir && mkdir KnowSeq.buildbin-libdir && /Users/biocbuild/BBS/utils/build-universal.sh KnowSeq_1.16.0.tar.gz /Library/Frameworks/R.framework/Resources/bin/R KnowSeq.buildbin-libdir StartedAt: 2024-03-04 00:47:47 -0500 (Mon, 04 Mar 2024) EndedAt: 2024-03-04 00:48:35 -0500 (Mon, 04 Mar 2024) EllapsedTime: 48.1 seconds RetCode: 0 Status: OK PackageFile: KnowSeq_1.16.0.tgz PackageFileSize: 6.482 MiB