Package: LBE Version: 1.70.0 Command: rm -rf LBE.buildbin-libdir && mkdir LBE.buildbin-libdir && /Users/biocbuild/BBS/utils/build-universal.sh LBE_1.70.0.tar.gz /Library/Frameworks/R.framework/Resources/bin/R LBE.buildbin-libdir StartedAt: 2024-03-04 00:47:50 -0500 (Mon, 04 Mar 2024) EndedAt: 2024-03-04 00:47:55 -0500 (Mon, 04 Mar 2024) EllapsedTime: 4.6 seconds RetCode: 0 Status: OK PackageFile: LBE_1.70.0.tgz PackageFileSize: 811.6 KiB