Package: LBE Version: 1.70.0 Command: /Library/Frameworks/R.framework/Resources/bin/R CMD build --keep-empty-dirs --no-resave-data LBE StartedAt: 2024-03-03 17:11:43 -0500 (Sun, 03 Mar 2024) EndedAt: 2024-03-03 17:11:55 -0500 (Sun, 03 Mar 2024) EllapsedTime: 11.4 seconds RetCode: 0 Status: OK PackageFile: LBE_1.70.0.tar.gz PackageFileSize: 784 KiB