Package: LBE Version: 1.70.0 Command: /Library/Frameworks/R.framework/Resources/bin/R CMD INSTALL LBE StartedAt: 2024-03-03 15:03:58 -0500 (Sun, 03 Mar 2024) EndedAt: 2024-03-03 15:04:22 -0500 (Sun, 03 Mar 2024) EllapsedTime: 24.0 seconds RetCode: 0 Status: OK