Package: LBE Version: 1.70.0 Command: /Library/Frameworks/R.framework/Resources/bin/R CMD check --install=check:LBE.install-out.txt --library=/Library/Frameworks/R.framework/Resources/library --no-vignettes --timings LBE_1.70.0.tar.gz StartedAt: 2024-04-16 04:34:41 -0400 (Tue, 16 Apr 2024) EndedAt: 2024-04-16 04:35:22 -0400 (Tue, 16 Apr 2024) EllapsedTime: 41.4 seconds RetCode: 0 Status: OK CheckDir: LBE.Rcheck Warnings: 0