Package: LBE Version: 1.70.0 Command: /home/biocbuild/bbs-3.18-bioc/R/bin/R CMD check --install=check:LBE.install-out.txt --library=/home/biocbuild/bbs-3.18-bioc/R/site-library --timings LBE_1.70.0.tar.gz StartedAt: 2024-04-16 00:16:44 -0400 (Tue, 16 Apr 2024) EndedAt: 2024-04-16 00:17:05 -0400 (Tue, 16 Apr 2024) EllapsedTime: 21.3 seconds RetCode: 0 Status: OK CheckDir: LBE.Rcheck Warnings: 0