Package: LBE Version: 1.70.0 Command: rm -rf LBE.buildbin-libdir && mkdir LBE.buildbin-libdir && F:\biocbuild\bbs-3.18-bioc\R\bin\R.exe CMD INSTALL --build --library=LBE.buildbin-libdir LBE_1.70.0.tar.gz StartedAt: 2024-04-16 07:12:13 -0400 (Tue, 16 Apr 2024) EndedAt: 2024-04-16 07:12:19 -0400 (Tue, 16 Apr 2024) EllapsedTime: 6.6 seconds RetCode: 0 Status: OK PackageFile: LBE_1.70.0.zip PackageFileSize: 815.8 KiB