Package: LBE Version: 1.70.0 Command: F:\biocbuild\bbs-3.18-bioc\R\bin\R.exe CMD check --no-multiarch --install=check:LBE.install-out.txt --library=F:\biocbuild\bbs-3.18-bioc\R\library --no-vignettes --timings LBE_1.70.0.tar.gz StartedAt: 2024-04-16 02:05:35 -0400 (Tue, 16 Apr 2024) EndedAt: 2024-04-16 02:06:02 -0400 (Tue, 16 Apr 2024) EllapsedTime: 27.1 seconds RetCode: 0 Status: OK CheckDir: LBE.Rcheck Warnings: 0