Package: LEA Version: 3.14.0 Command: chmod a+r LEA -R && F:\biocbuild\bbs-3.18-bioc\R\bin\R.exe CMD build --keep-empty-dirs --no-resave-data LEA StartedAt: 2024-04-15 19:15:40 -0400 (Mon, 15 Apr 2024) EndedAt: 2024-04-15 19:18:20 -0400 (Mon, 15 Apr 2024) EllapsedTime: 159.5 seconds RetCode: 0 Status: OK PackageFile: LEA_3.14.0.tar.gz PackageFileSize: 742.4 KiB