Package: LPEadj Version: 1.62.0 Command: /home/biocbuild/R/R-4.3.1/bin/R CMD build --keep-empty-dirs --no-resave-data LPEadj StartedAt: 2023-11-02 02:44:36 -0000 (Thu, 02 Nov 2023) EndedAt: 2023-11-02 02:44:41 -0000 (Thu, 02 Nov 2023) EllapsedTime: 5.0 seconds RetCode: 0 Status: OK PackageFile: LPEadj_1.62.0.tar.gz PackageFileSize: 1.513 MiB