Package: LPEadj Version: 1.62.0 Command: /Library/Frameworks/R.framework/Resources/bin/R CMD build --keep-empty-dirs --no-resave-data LPEadj StartedAt: 2024-03-03 17:13:21 -0500 (Sun, 03 Mar 2024) EndedAt: 2024-03-03 17:13:32 -0500 (Sun, 03 Mar 2024) EllapsedTime: 11.4 seconds RetCode: 0 Status: OK PackageFile: LPEadj_1.62.0.tar.gz PackageFileSize: 1.521 MiB