Package: LPEadj Version: 1.62.0 Command: rm -rf LPEadj.buildbin-libdir && mkdir LPEadj.buildbin-libdir && /Users/biocbuild/BBS/utils/build-universal.sh LPEadj_1.62.0.tar.gz /Library/Frameworks/R.framework/Resources/bin/R LPEadj.buildbin-libdir StartedAt: 2024-04-16 12:05:55 -0400 (Tue, 16 Apr 2024) EndedAt: 2024-04-16 12:06:02 -0400 (Tue, 16 Apr 2024) EllapsedTime: 6.3 seconds RetCode: 0 Status: OK PackageFile: LPEadj_1.62.0.tgz PackageFileSize: 630.5 KiB