Package: LPEadj Version: 1.62.0 Command: /home/biocbuild/bbs-3.18-bioc/R/bin/R CMD build --keep-empty-dirs --no-resave-data LPEadj StartedAt: 2024-04-15 17:44:14 -0400 (Mon, 15 Apr 2024) EndedAt: 2024-04-15 17:44:19 -0400 (Mon, 15 Apr 2024) EllapsedTime: 4.6 seconds RetCode: 0 Status: OK PackageFile: LPEadj_1.62.0.tar.gz PackageFileSize: 1.408 MiB