Package: LedPred
Version: 1.36.0
Command: rm -rf LedPred.buildbin-libdir && mkdir LedPred.buildbin-libdir && /Users/biocbuild/BBS/utils/build-universal.sh LedPred_1.36.0.tar.gz /Library/Frameworks/R.framework/Resources/bin/R LedPred.buildbin-libdir
StartedAt: 2024-04-16 12:04:31 -0400 (Tue, 16 Apr 2024)
EndedAt: 2024-04-16 12:05:04 -0400 (Tue, 16 Apr 2024)
EllapsedTime: 32.5 seconds
RetCode: 0
Status: OK
PackageFile: LedPred_1.36.0.tgz
PackageFileSize: 1.686 <A href="http://en.wikipedia.org/wiki/MiB" target="_blank">MiB</A>