Package: LineagePulse Version: 1.21.0 Command: F:\biocbuild\bbs-3.18-bioc\R\bin\R.exe CMD check --no-multiarch --install=check:LineagePulse.install-out.txt --library=F:\biocbuild\bbs-3.18-bioc\R\library --no-vignettes --timings LineagePulse_1.21.0.tar.gz StartedAt: 2023-07-08 02:44:38 -0400 (Sat, 08 Jul 2023) EndedAt: 2023-07-08 02:52:04 -0400 (Sat, 08 Jul 2023) EllapsedTime: 446.0 seconds RetCode: 0 Status: WARNINGS CheckDir: LineagePulse.Rcheck Warnings: 1