Package: LineagePulse Version: 1.22.0 Command: F:\biocbuild\bbs-3.18-bioc\R\bin\R.exe CMD INSTALL LineagePulse StartedAt: 2024-04-15 16:01:04 -0400 (Mon, 15 Apr 2024) EndedAt: 2024-04-15 16:01:08 -0400 (Mon, 15 Apr 2024) EllapsedTime: 4.4 seconds RetCode: 1 Status: ERROR