Package: LiquidAssociation Version: 1.56.0 Command: /home/biocbuild/bbs-3.18-bioc/R/bin/R CMD build --keep-empty-dirs --no-resave-data LiquidAssociation StartedAt: 2024-04-15 17:43:28 -0400 (Mon, 15 Apr 2024) EndedAt: 2024-04-15 17:43:55 -0400 (Mon, 15 Apr 2024) EllapsedTime: 26.9 seconds RetCode: 0 Status: OK PackageFile: LiquidAssociation_1.56.0.tar.gz PackageFileSize: 171.1 KiB