Package: LiquidAssociation Version: 1.56.0 Command: F:\biocbuild\bbs-3.18-bioc\R\bin\R.exe CMD INSTALL LiquidAssociation StartedAt: 2024-04-15 15:53:43 -0400 (Mon, 15 Apr 2024) EndedAt: 2024-04-15 15:54:08 -0400 (Mon, 15 Apr 2024) EllapsedTime: 24.7 seconds RetCode: 0 Status: OK