Package: LoomExperiment Version: 1.20.0 Command: rm -rf LoomExperiment.buildbin-libdir && mkdir LoomExperiment.buildbin-libdir && /Users/biocbuild/BBS/utils/build-universal.sh LoomExperiment_1.20.0.tar.gz /Library/Frameworks/R.framework/Resources/bin/R LoomExperiment.buildbin-libdir StartedAt: 2024-03-04 00:48:08 -0500 (Mon, 04 Mar 2024) EndedAt: 2024-03-04 00:48:51 -0500 (Mon, 04 Mar 2024) EllapsedTime: 43.1 seconds RetCode: 0 Status: OK PackageFile: LoomExperiment_1.20.0.tgz PackageFileSize: 868.2 KiB