Package: M3C Version: 1.24.0 Command: /home/biocbuild/R/R-4.3.1/bin/R CMD build --keep-empty-dirs --no-resave-data M3C StartedAt: 2023-11-02 02:45:03 -0000 (Thu, 02 Nov 2023) EndedAt: 2023-11-02 02:45:58 -0000 (Thu, 02 Nov 2023) EllapsedTime: 55.1 seconds RetCode: 0 Status: OK PackageFile: M3C_1.24.0.tar.gz PackageFileSize: 579.7 KiB