Package: M3C Version: 1.24.0 Command: /home/biocbuild/R/R-4.3.1/bin/R CMD check --install=check:M3C.install-out.txt --library=/home/biocbuild/R/R-4.3.1/site-library --no-vignettes --timings M3C_1.24.0.tar.gz StartedAt: 2023-11-02 11:45:21 -0000 (Thu, 02 Nov 2023) EndedAt: 2023-11-02 11:46:58 -0000 (Thu, 02 Nov 2023) EllapsedTime: 97.1 seconds RetCode: 0 Status: OK CheckDir: M3C.Rcheck Warnings: 0