Package: M3C Version: 1.24.0 Command: /Library/Frameworks/R.framework/Resources/bin/R CMD build --keep-empty-dirs --no-resave-data M3C StartedAt: 2024-03-03 17:13:31 -0500 (Sun, 03 Mar 2024) EndedAt: 2024-03-03 17:14:31 -0500 (Sun, 03 Mar 2024) EllapsedTime: 60.1 seconds RetCode: 0 Status: OK PackageFile: M3C_1.24.0.tar.gz PackageFileSize: 589.3 KiB