Package: M3C Version: 1.24.0 Command: rm -rf M3C.buildbin-libdir && mkdir M3C.buildbin-libdir && /Users/biocbuild/BBS/utils/build-universal.sh M3C_1.24.0.tar.gz /Library/Frameworks/R.framework/Resources/bin/R M3C.buildbin-libdir StartedAt: 2024-04-16 12:06:11 -0400 (Tue, 16 Apr 2024) EndedAt: 2024-04-16 12:06:39 -0400 (Tue, 16 Apr 2024) EllapsedTime: 27.8 seconds RetCode: 0 Status: OK PackageFile: M3C_1.24.0.tgz PackageFileSize: 757.1 KiB