Package: M3C Version: 1.24.0 Command: /home/biocbuild/bbs-3.18-bioc/R/bin/R CMD check --install=check:M3C.install-out.txt --library=/home/biocbuild/bbs-3.18-bioc/R/site-library --timings M3C_1.24.0.tar.gz StartedAt: 2024-04-16 00:22:35 -0400 (Tue, 16 Apr 2024) EndedAt: 2024-04-16 00:24:46 -0400 (Tue, 16 Apr 2024) EllapsedTime: 130.6 seconds RetCode: 0 Status: OK CheckDir: M3C.Rcheck Warnings: 0