Package: MACSQuantifyR Version: 1.16.0 Command: /home/biocbuild/bbs-3.18-bioc/R/bin/R CMD build --keep-empty-dirs --no-resave-data MACSQuantifyR StartedAt: 2024-04-15 17:44:46 -0400 (Mon, 15 Apr 2024) EndedAt: 2024-04-15 17:45:08 -0400 (Mon, 15 Apr 2024) EllapsedTime: 21.2 seconds RetCode: 0 Status: OK PackageFile: MACSQuantifyR_1.16.0.tar.gz PackageFileSize: 3.738 MiB