Package: MACSQuantifyR Version: 1.16.0 Command: /home/biocbuild/bbs-3.18-bioc/R/bin/R CMD check --install=check:MACSQuantifyR.install-out.txt --library=/home/biocbuild/bbs-3.18-bioc/R/site-library --timings MACSQuantifyR_1.16.0.tar.gz StartedAt: 2024-04-16 00:24:31 -0400 (Tue, 16 Apr 2024) EndedAt: 2024-04-16 00:25:35 -0400 (Tue, 16 Apr 2024) EllapsedTime: 63.8 seconds RetCode: 0 Status: OK CheckDir: MACSQuantifyR.Rcheck Warnings: 0