Package: MADSEQ Version: 1.28.0 Command: rm -rf MADSEQ.buildbin-libdir && mkdir MADSEQ.buildbin-libdir && F:\biocbuild\bbs-3.18-bioc\R\bin\R.exe CMD INSTALL --build --library=MADSEQ.buildbin-libdir MADSEQ_1.28.0.tar.gz StartedAt: 2024-04-16 07:13:26 -0400 (Tue, 16 Apr 2024) EndedAt: 2024-04-16 07:14:25 -0400 (Tue, 16 Apr 2024) EllapsedTime: 59.2 seconds RetCode: 0 Status: OK PackageFile: MADSEQ_1.28.0.zip PackageFileSize: 2.26 MiB