Package: MAGAR Version: 1.10.0 Command: /Library/Frameworks/R.framework/Resources/bin/R CMD build --keep-empty-dirs --no-resave-data MAGAR StartedAt: 2024-03-03 17:14:09 -0500 (Sun, 03 Mar 2024) EndedAt: 2024-03-03 17:17:02 -0500 (Sun, 03 Mar 2024) EllapsedTime: 173.8 seconds RetCode: 0 Status: OK PackageFile: MAGAR_1.10.0.tar.gz PackageFileSize: 966.7 KiB