Package: MAGAR
Version: 1.10.0
Command: F:\biocbuild\bbs-3.18-bioc\R\bin\R.exe CMD INSTALL MAGAR
StartedAt: 2024-04-15 16:43:33 -0400 (Mon, 15 Apr 2024)
EndedAt: 2024-04-15 16:45:02 -0400 (Mon, 15 Apr 2024)
EllapsedTime: 89.1 seconds
RetCode: 0
Status: OK