Package: MAI Version: 1.8.0 Command: /home/biocbuild/R/R-4.3.1/bin/R CMD check --install=check:MAI.install-out.txt --library=/home/biocbuild/R/R-4.3.1/site-library --no-vignettes --timings MAI_1.8.0.tar.gz StartedAt: 2023-11-02 11:48:15 -0000 (Thu, 02 Nov 2023) EndedAt: 2023-11-02 11:59:38 -0000 (Thu, 02 Nov 2023) EllapsedTime: 683.0 seconds RetCode: 0 Status: OK CheckDir: MAI.Rcheck Warnings: 0