Package: MAI Version: 1.8.0 Command: /Library/Frameworks/R.framework/Resources/bin/R CMD INSTALL MAI StartedAt: 2024-03-03 15:36:45 -0500 (Sun, 03 Mar 2024) EndedAt: 2024-03-03 15:37:24 -0500 (Sun, 03 Mar 2024) EllapsedTime: 39.1 seconds RetCode: 0 Status: OK