Package: MBASED Version: 1.36.0 Command: rm -rf MBASED.buildbin-libdir && mkdir MBASED.buildbin-libdir && /Users/biocbuild/BBS/utils/build-universal.sh MBASED_1.36.0.tar.gz /Library/Frameworks/R.framework/Resources/bin/R MBASED.buildbin-libdir StartedAt: 2024-04-16 12:08:17 -0400 (Tue, 16 Apr 2024) EndedAt: 2024-04-16 12:09:22 -0400 (Tue, 16 Apr 2024) EllapsedTime: 65.5 seconds RetCode: 0 Status: OK PackageFile: MBASED_1.36.0.tgz PackageFileSize: 492.9 KiB