Package: MBASED Version: 1.36.0 Command: chmod a+r MBASED -R && F:\biocbuild\bbs-3.18-bioc\R\bin\R.exe CMD build --keep-empty-dirs --no-resave-data MBASED StartedAt: 2024-04-15 19:21:42 -0400 (Mon, 15 Apr 2024) EndedAt: 2024-04-15 19:24:08 -0400 (Mon, 15 Apr 2024) EllapsedTime: 146.3 seconds RetCode: 0 Status: OK PackageFile: MBASED_1.36.0.tar.gz PackageFileSize: 365 KiB