Package: MEAL Version: 1.32.0 Command: /Library/Frameworks/R.framework/Resources/bin/R CMD build --keep-empty-dirs --no-resave-data MEAL StartedAt: 2024-03-03 17:16:46 -0500 (Sun, 03 Mar 2024) EndedAt: 2024-03-03 17:24:04 -0500 (Sun, 03 Mar 2024) EllapsedTime: 438.7 seconds RetCode: 0 Status: OK PackageFile: MEAL_1.32.0.tar.gz PackageFileSize: 1.963 MiB