Package: MEAL Version: 1.32.0 Command: /Library/Frameworks/R.framework/Resources/bin/R CMD check --install=check:MEAL.install-out.txt --library=/Library/Frameworks/R.framework/Resources/library --no-vignettes --timings MEAL_1.32.0.tar.gz StartedAt: 2024-03-03 21:37:09 -0500 (Sun, 03 Mar 2024) EndedAt: 2024-03-03 21:43:44 -0500 (Sun, 03 Mar 2024) EllapsedTime: 395.4 seconds RetCode: 0 Status: WARNINGS CheckDir: MEAL.Rcheck Warnings: 3