Package: MEAL Version: 1.32.0 Command: /Library/Frameworks/R.framework/Resources/bin/R CMD INSTALL MEAL StartedAt: 2024-03-03 15:48:04 -0500 (Sun, 03 Mar 2024) EndedAt: 2024-03-03 15:48:41 -0500 (Sun, 03 Mar 2024) EllapsedTime: 36.7 seconds RetCode: 0 Status: OK