Package: MEAT Version: 1.14.0 Command: /home/biocbuild/R/R-4.3.1/bin/R CMD check --install=check:MEAT.install-out.txt --library=/home/biocbuild/R/R-4.3.1/site-library --no-vignettes --timings MEAT_1.14.0.tar.gz StartedAt: 2023-11-02 11:54:08 -0000 (Thu, 02 Nov 2023) EndedAt: 2023-11-02 12:02:41 -0000 (Thu, 02 Nov 2023) EllapsedTime: 512.9 seconds RetCode: 0 Status: WARNINGS CheckDir: MEAT.Rcheck Warnings: 1