Package: MEAT Version: 1.14.0 Command: /Library/Frameworks/R.framework/Resources/bin/R CMD check --install=check:MEAT.install-out.txt --library=/Library/Frameworks/R.framework/Resources/library --no-vignettes --timings MEAT_1.14.0.tar.gz StartedAt: 2024-04-16 04:57:42 -0400 (Tue, 16 Apr 2024) EndedAt: 2024-04-16 05:10:20 -0400 (Tue, 16 Apr 2024) EllapsedTime: 758.1 seconds RetCode: 0 Status: WARNINGS CheckDir: MEAT.Rcheck Warnings: 1