Package: MEDME Version: 1.62.0 Command: /Library/Frameworks/R.framework/Resources/bin/R CMD check --install=check:MEDME.install-out.txt --library=/Library/Frameworks/R.framework/Resources/library --no-vignettes --timings MEDME_1.62.0.tar.gz StartedAt: 2024-04-16 04:58:41 -0400 (Tue, 16 Apr 2024) EndedAt: 2024-04-16 05:02:51 -0400 (Tue, 16 Apr 2024) EllapsedTime: 250.0 seconds RetCode: 0 Status: WARNINGS CheckDir: MEDME.Rcheck Warnings: 1