Package: MEDME Version: 1.62.0 Command: /Library/Frameworks/R.framework/Resources/bin/R CMD INSTALL MEDME StartedAt: 2024-04-15 16:18:06 -0400 (Mon, 15 Apr 2024) EndedAt: 2024-04-15 16:18:40 -0400 (Mon, 15 Apr 2024) EllapsedTime: 34.6 seconds RetCode: 0 Status: OK